BEGIN:VCALENDAR
VERSION:2.0
PRODID:-//COGIC UK - ECPv5.3.2.1//NONSGML v1.0//EN
CALSCALE:GREGORIAN
METHOD:PUBLISH
X-WR-CALNAME:COGIC UK
X-ORIGINAL-URL:https://cogic.org.uk
X-WR-CALDESC:Events for COGIC UK
BEGIN:VTIMEZONE
TZID:Europe/London
BEGIN:DAYLIGHT
TZOFFSETFROM:+0000
TZOFFSETTO:+0100
TZNAME:BST
DTSTART:20260329T010000
END:DAYLIGHT
BEGIN:STANDARD
TZOFFSETFROM:+0100
TZOFFSETTO:+0000
TZNAME:GMT
DTSTART:20261025T010000
END:STANDARD
END:VTIMEZONE
BEGIN:VEVENT
DTSTART;VALUE=DATE:20261002
DTEND;VALUE=DATE:20261005
DTSTAMP:20260420T033301
CREATED:20210211T222027Z
LAST-MODIFIED:20260113T152528Z
UID:2705-1790899200-1791158399@cogic.org.uk
SUMMARY:COGIC UK National Women’s Convocation
DESCRIPTION:  \n 
URL:https://cogic.org.uk/event/annual-womens-convocation/
LOCATION:Luton\, 127 Dunstable Road\, Luton\, Bedfordshire\, LU1 1BW\, United Kingdom
ATTACH;FMTTYPE=image/gif:https://cogic.org.uk/wp-content/uploads/2020/04/womens-logo.gif
END:VEVENT
END:VCALENDAR